Workbook

Sheet Podsumowanie
A1: Zestawienie kosztów z faktur
A2: Liczone formułami z arkusza „Faktury”. Kwoty obejmują tylko faktury ze statusem OK – faktury do sprawdzenia są policzone osobno.
A4: Dostawca | B4: Faktury OK | C4: Netto | D4: VAT | E4: Brutto | F4: Do sprawdzenia
A5: Hurtownia Kawy Arabika sp. z o.o. | B5: =COUNTIFS(Faktury!$B$2:$B$25,A5,Faktury!$K$2:$K$25,"OK") -> 7 | C5: =SUMIFS(Faktury!$G$2:$G$25,Faktury!$B$2:$B$25,A5,Faktury!$K$2:$K$25,"OK") -> 5526 | D5: =SUMIFS(Faktury!$H$2:$H$25,Faktury!$B$2:$B$25,A5,Faktury!$K$2:$K$25,"OK") -> 1270.98 | E5: =SUMIFS(Faktury!$I$2:$I$25,Faktury!$B$2:$B$25,A5,Faktury!$K$2:$K$25,"OK") -> 6796.98 | F5: =COUNTIFS(Faktury!$B$2:$B$25,A5,Faktury!$K$2:$K$25,"DO SPRAWDZENIA") -> 1
A6: Pakownia EKO-BOX s.c. | B6: =COUNTIFS(Faktury!$B$2:$B$25,A6,Faktury!$K$2:$K$25,"OK") -> 6 | C6: =SUMIFS(Faktury!$G$2:$G$25,Faktury!$B$2:$B$25,A6,Faktury!$K$2:$K$25,"OK") -> 3038 | D6: =SUMIFS(Faktury!$H$2:$H$25,Faktury!$B$2:$B$25,A6,Faktury!$K$2:$K$25,"OK") -> 698.74 | E6: =SUMIFS(Faktury!$I$2:$I$25,Faktury!$B$2:$B$25,A6,Faktury!$K$2:$K$25,"OK") -> 3736.74 | F6: =COUNTIFS(Faktury!$B$2:$B$25,A6,Faktury!$K$2:$K$25,"DO SPRAWDZENIA") -> 1
A7: Serwis Ekspresów Barista-Tech | B7: =COUNTIFS(Faktury!$B$2:$B$25,A7,Faktury!$K$2:$K$25,"OK") -> 7 | C7: =SUMIFS(Faktury!$G$2:$G$25,Faktury!$B$2:$B$25,A7,Faktury!$K$2:$K$25,"OK") -> 3100 | D7: =SUMIFS(Faktury!$H$2:$H$25,Faktury!$B$2:$B$25,A7,Faktury!$K$2:$K$25,"OK") -> 713 | E7: =SUMIFS(Faktury!$I$2:$I$25,Faktury!$B$2:$B$25,A7,Faktury!$K$2:$K$25,"OK") -> 3813 | F7: =COUNTIFS(Faktury!$B$2:$B$25,A7,Faktury!$K$2:$K$25,"DO SPRAWDZENIA") -> 1
A8: Razem | B8: =SUM(B5:B7) -> 20 | C8: =SUM(C5:C7) -> 11664 | D8: =SUM(D5:D7) -> 2682.72 | E8: =SUM(E5:E7) -> 14346.72 | F8: =COUNTIFS(Faktury!$K$2:$K$25,"DO SPRAWDZENIA") -> 4
A10: Koszty brutto wg miesięcy (faktury OK)
A11: Miesiąc | B11: Hurtownia Kawy Arabika sp. z o.o. | C11: Pakownia EKO-BOX s.c. | D11: Serwis Ekspresów Barista-Tech | E11: Razem
A12: 2026-01 | B12: =SUMIFS(Faktury!$I$2:$I$25,Faktury!$F$2:$F$25,$A12,Faktury!$B$2:$B$25,B$11,Faktury!$K$2:$K$25,"OK") -> 1068.87 | C12: =SUMIFS(Faktury!$I$2:$I$25,Faktury!$F$2:$F$25,$A12,Faktury!$B$2:$B$25,C$11,Faktury!$K$2:$K$25,"OK") -> 157.44 | D12: =SUMIFS(Faktury!$I$2:$I$25,Faktury!$F$2:$F$25,$A12,Faktury!$B$2:$B$25,D$11,Faktury!$K$2:$K$25,"OK") -> 0 | E12: =SUM(B12:D12) -> 1226.31
A13: 2026-02 | B13: =SUMIFS(Faktury!$I$2:$I$25,Faktury!$F$2:$F$25,$A13,Faktury!$B$2:$B$25,B$11,Faktury!$K$2:$K$25,"OK") -> 541.2 | C13: =SUMIFS(Faktury!$I$2:$I$25,Faktury!$F$2:$F$25,$A13,Faktury!$B$2:$B$25,C$11,Faktury!$K$2:$K$25,"OK") -> 1052.88 | D13: =SUMIFS(Faktury!$I$2:$I$25,Faktury!$F$2:$F$25,$A13,Faktury!$B$2:$B$25,D$11,Faktury!$K$2:$K$25,"OK") -> 750.3 | E13: =SUM(B13:D13) -> 2344.38
A14: 2026-03 | B14: =SUMIFS(Faktury!$I$2:$I$25,Faktury!$F$2:$F$25,$A14,Faktury!$B$2:$B$25,B$11,Faktury!$K$2:$K$25,"OK") -> 862.23 | C14: =SUMIFS(Faktury!$I$2:$I$25,Faktury!$F$2:$F$25,$A14,Faktury!$B$2:$B$25,C$11,Faktury!$K$2:$K$25,"OK") -> 325.95 | D14: =SUMIFS(Faktury!$I$2:$I$25,Faktury!$F$2:$F$25,$A14,Faktury!$B$2:$B$25,D$11,Faktury!$K$2:$K$25,"OK") -> 233.7 | E14: =SUM(B14:D14) -> 1421.88
A15: 2026-04 | B15: =SUMIFS(Faktury!$I$2:$I$25,Faktury!$F$2:$F$25,$A15,Faktury!$B$2:$B$25,B$11,Faktury!$K$2:$K$25,"OK") -> 0 | C15: =SUMIFS(Faktury!$I$2:$I$25,Faktury!$F$2:$F$25,$A15,Faktury!$B$2:$B$25,C$11,Faktury!$K$2:$K$25,"OK") -> 1403.43 | D15: =SUMIFS(Faktury!$I$2:$I$25,Faktury!$F$2:$F$25,$A15,Faktury!$B$2:$B$25,D$11,Faktury!$K$2:$K$25,"OK") -> 578.1 | E15: =SUM(B15:D15) -> 1981.53
A16: 2026-05 | B16: =SUMIFS(Faktury!$I$2:$I$25,Faktury!$F$2:$F$25,$A16,Faktury!$B$2:$B$25,B$11,Faktury!$K$2:$K$25,"OK") -> 1264.44 | C16: =SUMIFS(Faktury!$I$2:$I$25,Faktury!$F$2:$F$25,$A16,Faktury!$B$2:$B$25,C$11,Faktury!$K$2:$K$25,"OK") -> 0 | D16: =SUMIFS(Faktury!$I$2:$I$25,Faktury!$F$2:$F$25,$A16,Faktury!$B$2:$B$25,D$11,Faktury!$K$2:$K$25,"OK") -> 405.9 | E16: =SUM(B16:D16) -> 1670.34
A17: 2026-06 | B17: =SUMIFS(Faktury!$I$2:$I$25,Faktury!$F$2:$F$25,$A17,Faktury!$B$2:$B$25,B$11,Faktury!$K$2:$K$25,"OK") -> 1006.14 | C17: =SUMIFS(Faktury!$I$2:$I$25,Faktury!$F$2:$F$25,$A17,Faktury!$B$2:$B$25,C$11,Faktury!$K$2:$K$25,"OK") -> 0 | D17: =SUMIFS(Faktury!$I$2:$I$25,Faktury!$F$2:$F$25,$A17,Faktury!$B$2:$B$25,D$11,Faktury!$K$2:$K$25,"OK") -> 344.4 | E17: =SUM(B17:D17) -> 1350.54
A18: 2026-07 | B18: =SUMIFS(Faktury!$I$2:$I$25,Faktury!$F$2:$F$25,$A18,Faktury!$B$2:$B$25,B$11,Faktury!$K$2:$K$25,"OK") -> 369 | C18: =SUMIFS(Faktury!$I$2:$I$25,Faktury!$F$2:$F$25,$A18,Faktury!$B$2:$B$25,C$11,Faktury!$K$2:$K$25,"OK") -> 157.44 | D18: =SUMIFS(Faktury!$I$2:$I$25,Faktury!$F$2:$F$25,$A18,Faktury!$B$2:$B$25,D$11,Faktury!$K$2:$K$25,"OK") -> 750.3 | E18: =SUM(B18:D18) -> 1276.74
A19: 2026-08 | B19: =SUMIFS(Faktury!$I$2:$I$25,Faktury!$F$2:$F$25,$A19,Faktury!$B$2:$B$25,B$11,Faktury!$K$2:$K$25,"OK") -> 1685.1 | C19: =SUMIFS(Faktury!$I$2:$I$25,Faktury!$F$2:$F$25,$A19,Faktury!$B$2:$B$25,C$11,Faktury!$K$2:$K$25,"OK") -> 639.6 | D19: =SUMIFS(Faktury!$I$2:$I$25,Faktury!$F$2:$F$25,$A19,Faktury!$B$2:$B$25,D$11,Faktury!$K$2:$K$25,"OK") -> 750.3 | E19: =SUM(B19:D19) -> 3075

Sheet Faktury
A1: Plik | B1: Dostawca | C1: NIP dostawcy | D1: Nr faktury | E1: Data | F1: Miesiąc | G1: Netto | H1: VAT | I1: Brutto | J1: Różnica (brutto − netto − VAT) | K1: Status | L1: Uwagi
A2: arabika_011.pdf | B2: Hurtownia Kawy Arabika sp. z o.o. | C2: 5250004177 | D2: FV/2026/01/011 | E2: 46032 | F2: 2026-01 | G2: 869 | H2: 199.87 | I2: 1068.87 | J2: =IF(COUNT(G2:I2)=3,ROUND(I2-G2-H2,2),"") -> 0 | K2: OK
A3: EKOBOX faktura 4.pdf | B3: Pakownia EKO-BOX s.c. | C3: 8970002618 | D3: 4/01/2026 | E3: 46041 | F3: 2026-01 | G3: 128 | H3: 29.44 | I3: 157.44 | J3: =IF(COUNT(G3:I3)=3,ROUND(I3-G3-H3,2),"") -> 0 | K3: OK
A4: BT-2026-0041.pdf | B4: Serwis Ekspresów Barista-Tech | C4: 7790005856 | D4: BT-2026-0041 | E4: 46054 | F4: 2026-02 | G4: 610 | H4: 140.3 | I4: 750.3 | J4: =IF(COUNT(G4:I4)=3,ROUND(I4-G4-H4,2),"") -> 0 | K4: OK
A5: arabika_012.pdf | B5: Hurtownia Kawy Arabika sp. z o.o. | C5: 5250004177 | D5: FV/2026/02/012 | E5: 46063 | F5: 2026-02 | G5: 440 | H5: 101.2 | I5: 541.2 | J5: =IF(COUNT(G5:I5)=3,ROUND(I5-G5-H5,2),"") -> 0 | K5: OK
A6: EKOBOX faktura 5.pdf | B6: Pakownia EKO-BOX s.c. | C6: 8970002618 | D6: 5/02/2026 | E6: 46078 | F6: 2026-02 | G6: 856 | H6: 196.88 | I6: 1052.88 | J6: =IF(COUNT(G6:I6)=3,ROUND(I6-G6-H6,2),"") -> 0 | K6: OK
A7: BT-2026-0042.pdf | B7: Serwis Ekspresów Barista-Tech | C7: 7790005856 | D7: BT-2026-0042 | E7: 46089 | F7: 2026-03 | G7: 190 | H7: 43.7 | I7: 233.7 | J7: =IF(COUNT(G7:I7)=3,ROUND(I7-G7-H7,2),"") -> 0 | K7: OK
A8: arabika_013.pdf | B8: Hurtownia Kawy Arabika sp. z o.o. | C8: 5250004177 | D8: FV/2026/03/013 | E8: 46100 | F8: 2026-03 | G8: 701 | H8: 161.23 | I8: 862.23 | J8: =IF(COUNT(G8:I8)=3,ROUND(I8-G8-H8,2),"") -> 0 | K8: OK
A9: EKOBOX faktura 6.pdf | B9: Pakownia EKO-BOX s.c. | C9: 8970002618 | D9: 6/03/2026 | E9: 46108 | F9: 2026-03 | G9: 265 | H9: 60.95 | I9: 325.95 | J9: =IF(COUNT(G9:I9)=3,ROUND(I9-G9-H9,2),"") -> 0 | K9: OK
A10: BT-2026-0043.pdf | B10: Serwis Ekspresów Barista-Tech | C10: 7790005856 | D10: BT-2026-0043 | E10: 46122 | F10: 2026-04 | G10: 470 | H10: 108.1 | I10: 578.1 | J10: =IF(COUNT(G10:I10)=3,ROUND(I10-G10-H10,2),"") -> 0 | K10: OK
A11: arabika_014.pdf | B11: Hurtownia Kawy Arabika sp. z o.o. | C11: 5250004177 | D11: FV/2026/04/014 | E11: 46129 | F11: 2026-04 | G11: 1648 | H11: 379.04 | I11: 2037.04 | J11: =IF(COUNT(G11:I11)=3,ROUND(I11-G11-H11,2),"") -> 10 | K11: DO SPRAWDZENIA | L11: Netto + VAT = 2027.04, a na fakturze brutto 2037.04
A12: EKOBOX faktura 7.pdf | B12: Pakownia EKO-BOX s.c. | C12: 8970002618 | D12: 7/04/2026 | E12: 46140 | F12: 2026-04 | G12: 1141 | H12: 262.43 | I12: 1403.43 | J12: =IF(COUNT(G12:I12)=3,ROUND(I12-G12-H12,2),"") -> 0 | K12: OK
A13: BT-2026-0044.pdf | B13: Serwis Ekspresów Barista-Tech | C13: 7790005856 | D13: BT-2026-0044 | E13: 46153 | F13: 2026-05 | G13: 330 | H13: 75.9 | I13: 405.9 | J13: =IF(COUNT(G13:I13)=3,ROUND(I13-G13-H13,2),"") -> 0 | K13: OK
A14: arabika_015.pdf | B14: Hurtownia Kawy Arabika sp. z o.o. | C14: 5250004177 | D14: FV/2026/05/015 | E14: 46164 | F14: 2026-05 | G14: 1028 | H14: 236.44 | I14: 1264.44 | J14: =IF(COUNT(G14:I14)=3,ROUND(I14-G14-H14,2),"") -> 0 | K14: OK
A15: EKOBOX faktura 8.pdf | B15: Pakownia EKO-BOX s.c. | C15: 8970002611 | D15: 8/05/2026 | E15: 46173 | F15: 2026-05 | G15: 954 | H15: 219.42 | I15: 1173.42 | J15: =IF(COUNT(G15:I15)=3,ROUND(I15-G15-H15,2),"") -> 0 | K15: DO SPRAWDZENIA | L15: Błędny NIP 8970002611 (zła suma kontrolna)
A16: BT-2026-0045.pdf | B16: Serwis Ekspresów Barista-Tech | C16: 7790005856 | D16: BT-2026-0045 | E16: 46188 | F16: 2026-06 | G16: 280 | H16: 64.4 | I16: 344.4 | J16: =IF(COUNT(G16:I16)=3,ROUND(I16-G16-H16,2),"") -> 0 | K16: OK
A17: arabika_016.pdf | B17: Hurtownia Kawy Arabika sp. z o.o. | C17: 5250004177 | D17: FV/2026/06/016 | E17: 46199 | F17: 2026-06 | G17: 818 | H17: 188.14 | I17: 1006.14 | J17: =IF(COUNT(G17:I17)=3,ROUND(I17-G17-H17,2),"") -> 0 | K17: OK
A18: EKOBOX faktura 9.pdf | B18: Pakownia EKO-BOX s.c. | C18: 8970002618 | D18: 9/07/2026 | E18: 46209 | F18: 2026-07 | G18: 128 | H18: 29.44 | I18: 157.44 | J18: =IF(COUNT(G18:I18)=3,ROUND(I18-G18-H18,2),"") -> 0 | K18: OK
A19: BT-2026-0046.pdf | B19: Serwis Ekspresów Barista-Tech | C19: 7790005856 | D19: BT-2026-0046 | E19: 46221 | F19: 2026-07 | G19: 610 | H19: 140.3 | I19: 750.3 | J19: =IF(COUNT(G19:I19)=3,ROUND(I19-G19-H19,2),"") -> 0 | K19: OK
A20: skan_mail_46.pdf | B20: Serwis Ekspresów Barista-Tech | C20: 7790005856 | D20: BT-2026-0046 | E20: 46221 | F20: 2026-07 | G20: 610 | H20: 140.3 | I20: 750.3 | J20: =IF(COUNT(G20:I20)=3,ROUND(I20-G20-H20,2),"") -> 0 | K20: DO SPRAWDZENIA | L20: Duplikat – ta sama faktura co w pliku BT-2026-0046.pdf
A21: arabika_017.pdf | B21: Hurtownia Kawy Arabika sp. z o.o. | C21: 5250004177 | D21: FV/2026/07/017 | E21: 46232 | F21: 2026-07 | G21: 300 | H21: 69 | I21: 369 | J21: =IF(COUNT(G21:I21)=3,ROUND(I21-G21-H21,2),"") -> 0 | K21: OK
A22: EKOBOX faktura 10.pdf | B22: Pakownia EKO-BOX s.c. | C22: 8970002618 | D22: 10/08/2026 | E22: 46241 | F22: 2026-08 | G22: 520 | H22: 119.6 | I22: 639.6 | J22: =IF(COUNT(G22:I22)=3,ROUND(I22-G22-H22,2),"") -> 0 | K22: OK
A23: BT-2026-0047.pdf | B23: Serwis Ekspresów Barista-Tech | C23: 7790005856 | D23: BT-2026-0047 | E23: 46252 | F23: 2026-08 | G23: 610 | H23: 140.3 | I23: 750.3 | J23: =IF(COUNT(G23:I23)=3,ROUND(I23-G23-H23,2),"") -> 0 | K23: OK
A24: arabika_018.pdf | B24: Hurtownia Kawy Arabika sp. z o.o. | C24: 5250004177 | D24: FV/2026/08/018 | E24: 46264 | F24: 2026-08 | G24: 1370 | H24: 315.1 | I24: 1685.1 | J24: =IF(COUNT(G24:I24)=3,ROUND(I24-G24-H24,2),"") -> 0 | K24: OK
A25: skan_paragon_0912.pdf | J25: =IF(COUNT(G25:I25)=3,ROUND(I25-G25-H25,2),"") | K25: DO SPRAWDZENIA | L25: Brak tekstu w PDF (skan) – wymaga OCR albo ręcznego przepisania

Sheet Do sprawdzenia
A1: Faktury wymagające uwagi
A3: Plik | B3: Dostawca | C3: Nr faktury | D3: Problem
A4: arabika_014.pdf | B4: Hurtownia Kawy Arabika sp. z o.o. | C4: FV/2026/04/014 | D4: Netto + VAT = 2027.04, a na fakturze brutto 2037.04
A5: EKOBOX faktura 8.pdf | B5: Pakownia EKO-BOX s.c. | C5: 8/05/2026 | D5: Błędny NIP 8970002611 (zła suma kontrolna)
A6: skan_mail_46.pdf | B6: Serwis Ekspresów Barista-Tech | C6: BT-2026-0046 | D6: Duplikat – ta sama faktura co w pliku BT-2026-0046.pdf
A7: skan_paragon_0912.pdf | D7: Brak tekstu w PDF (skan) – wymaga OCR albo ręcznego przepisania
